BEGIN:VCALENDAR
VERSION:2.0
PRODID:-//Stichting Cultuurpodium Kattekse CultUren - ECPv6.1.3//NONSGML v1.0//EN
CALSCALE:GREGORIAN
METHOD:PUBLISH
X-ORIGINAL-URL:https://www.kattekseculturen.nl
X-WR-CALDESC:Evenementen voor Stichting Cultuurpodium Kattekse CultUren
REFRESH-INTERVAL;VALUE=DURATION:PT1H
X-Robots-Tag:noindex
X-PUBLISHED-TTL:PT1H
BEGIN:VTIMEZONE
TZID:Europe/Amsterdam
BEGIN:DAYLIGHT
TZOFFSETFROM:+0100
TZOFFSETTO:+0200
TZNAME:CEST
DTSTART:20220327T010000
END:DAYLIGHT
BEGIN:STANDARD
TZOFFSETFROM:+0200
TZOFFSETTO:+0100
TZNAME:CET
DTSTART:20221030T010000
END:STANDARD
END:VTIMEZONE
BEGIN:VEVENT
DTSTART;TZID=Europe/Amsterdam:20220219T140000
DTEND;TZID=Europe/Amsterdam:20220305T170000
DTSTAMP:20260422T211227
CREATED:20220214T135341Z
LAST-MODIFIED:20220214T135341Z
UID:2359-1645279200-1646499600@www.kattekseculturen.nl
SUMMARY:Expositie grafiettekeningen in de Oude Redschuur
DESCRIPTION:De expositie is te bezoeken op de zaterdagen 19 en 26 februari\, en 5 maart van 14.00 tot 17.00 uur. \n‘De tekeningen geven rust\, terwijl ze ook een bepaalde spanning opwekken.’ Met meer dan vijf jaar ervaring maakt John Posthumus (32) met name complexe grafiettekeningen. Hij exposeert zijn kunstwerken op de komende zaterdagen in februari in de Oude Redschuur aan de Rijnmond in Katwijk. \nTekeningen en collages maken het belangrijkste deel uit van het werk van de in Katwijk geboren en getogen Posthumus\, die de opleiding Autonome Beeldende Kunst volgde aan de Willem de Kooning Academie (Rotterdam). \nDe onderwerpen van zijn kunstwerken zijn uiteenlopend\, maar spelen zich vaak af rond het thema ‘mens en ruimte’. ‘Ik experimenteer met grafiet in verschillende vormen en maak gebruik van verschillende technieken.’ \n‘Speciaal voor de expositie in de Redschuur heb ik een aantal grote tekening gemaakt. Voor deze werken heb ik mij laten inspireren door stormachtige zeezichten\, die ook onlosmakelijk verbonden zijn met de Katwijkse kust. Deze grafiettekeningen zijn enkel bewerkt met los grafietpoeder\, een knipoog naar het zandstrand.’ \nPotloden\nVoor zijn tekeningen gebruikt Posthumus vooral grafietpotloden. ’Die zijn overal te vinden in mijn atelier. Verschillende merken\, verschillende grote\, dikte\, hardheid gebruikt/ongebruikt\, alles ligt er.’ \nMaar de grafiettekening wordt nooit met alleen een potlood vervaardigd. Grafiet is er namelijk in en grote verscheidenheid aan varianten en vormen. ‘Gebruikmakend van deze verscheidenheid en oefening van verschillende technieken maakt dat ik tekeningen meer diepte en scherpte kan meegeven. Daarnaast vind je in mijn atelier een divers aanbod aan gummen\, kwasten\, mesjes en vegers\, waarmee ik het grafiet op het papier bewerk.’ \nDe tekeningen maakt hij op hoogwaardig papier; 220 of 285 gram drukpapier of 300 gram kunstpapier. ‘Het juiste papier kan een tekening een extra laag meegeven wanneer je deze met de juiste materialen en technieken bewerkt.’ \nNa groepsexposities in Delft\, Rotterdam en Tilburg houdt Posthumus zijn eerste solo-expositie in de Oude Redschuur\, de voormalige botenloods van de KNRM Katwijk aan de Rijnmond 200 met meer dan 50 werken. Tekeningen speciaal gemaakt voor in de Redschuur\, geïnspireerd door de kustplaats Katwijk en andere werken. \nParkeren is mogelijk bij de voormalige Rabobank aan de Rogstraat in Katwijk.\nVoor fietsen is bij de Oude Redschuur wel plaats. \nOok exposeren in de Oude Redschuur? Mail: info@ouderedschuur.nl
URL:https://www.kattekseculturen.nl/event/expositie-grafiettekeningen-in-de-oude-redschuur/
LOCATION:De Oude Redschuur Katwijk\, Rijnmond\, Katwijk\, 2225 VZ\, Nederland
CATEGORIES:Expositie
ATTACH;FMTTYPE=image/jpeg:https://www.kattekseculturen.nl/wp-content/uploads/2022/02/FOTO-Redschuur-01-Verticaal--scaled.jpg
ORGANIZER;CN="Stichting%20Cultuurpodium%20Kattekse%20CultUren":MAILTO:info@kattekseculturen.nl
END:VEVENT
END:VCALENDAR