BEGIN:VCALENDAR
VERSION:2.0
PRODID:-//Stichting Cultuurpodium Kattekse CultUren - ECPv6.1.3//NONSGML v1.0//EN
CALSCALE:GREGORIAN
METHOD:PUBLISH
X-WR-CALNAME:Stichting Cultuurpodium Kattekse CultUren
X-ORIGINAL-URL:https://www.kattekseculturen.nl
X-WR-CALDESC:Evenementen voor Stichting Cultuurpodium Kattekse CultUren
REFRESH-INTERVAL;VALUE=DURATION:PT1H
X-Robots-Tag:noindex
X-PUBLISHED-TTL:PT1H
BEGIN:VTIMEZONE
TZID:Europe/Amsterdam
BEGIN:DAYLIGHT
TZOFFSETFROM:+0100
TZOFFSETTO:+0200
TZNAME:CEST
DTSTART:20190331T010000
END:DAYLIGHT
BEGIN:STANDARD
TZOFFSETFROM:+0200
TZOFFSETTO:+0100
TZNAME:CET
DTSTART:20191027T010000
END:STANDARD
BEGIN:DAYLIGHT
TZOFFSETFROM:+0100
TZOFFSETTO:+0200
TZNAME:CEST
DTSTART:20200329T010000
END:DAYLIGHT
BEGIN:STANDARD
TZOFFSETFROM:+0200
TZOFFSETTO:+0100
TZNAME:CET
DTSTART:20201025T010000
END:STANDARD
END:VTIMEZONE
BEGIN:VEVENT
DTSTART;TZID=Europe/Amsterdam:20200117T193000
DTEND;TZID=Europe/Amsterdam:20200117T230000
DTSTAMP:20260422T194102
CREATED:20191003T152710Z
LAST-MODIFIED:20200105T100210Z
UID:1758-1579289400-1579302000@www.kattekseculturen.nl
SUMMARY:Warm Winter Fest 2020
DESCRIPTION:Warm Winter Fest is een hartverwarmend kleinschalig cultureel festival in hartje winter. Op bijzondere locaties (kerken\, huiskamers\, cafés\, schuren\, winkelpanden) in de dorpskern van Katwijk aan Zee kan het publiek genieten van muziek\, theater\, literatuur en kunst in al zijn vormen. Professionele acts en lokaal talent wisselen elkaar af. \nWarm Winter Fest 2020 wordt gehouden op vrijdag 17 januari 2020 van 19.30 tot 23.00 uur in het centrum van Katwijk aan Zee. \nKijk in de line-up alvast waar je op 17 januari 2020 naar toe wilt: \n\n\n\nKlik om te vergroten\nKlik om te vergroten\n\n\n\nOf gebruik de volgende link om onze handige 𝗪𝗮𝗿𝗺 𝗪𝗶𝗻𝘁𝗲𝗿 𝗙𝗲𝘀𝘁 app te installeren: https://tmsqr.link/warmwinterfest \n  \n 
URL:https://www.kattekseculturen.nl/event/warm-winter-fest-2020/
LOCATION:Katwijk aan zee\, Katwijk aan Zee\, Nederland
CATEGORIES:Festival,Muziek,Theater
ATTACH;FMTTYPE=image/png:https://www.kattekseculturen.nl/wp-content/uploads/2019/10/Poster-WWF2020.png
ORGANIZER;CN="Stichting%20Cultuurpodium%20Kattekse%20CultUren":MAILTO:info@kattekseculturen.nl
END:VEVENT
BEGIN:VEVENT
DTSTART;TZID=Europe/Amsterdam:20190817T163000
DTEND;TZID=Europe/Amsterdam:20190817T230000
DTSTAMP:20260422T194102
CREATED:20190518T150857Z
LAST-MODIFIED:20190720T083440Z
UID:1674-1566059400-1566082800@www.kattekseculturen.nl
SUMMARY:Woodstock on the Beach
DESCRIPTION:Dit jaar op zaterdag 17 augustus – precies vijftig jaar na dato – wordt Beachclub Zomers in Katwijk aan Zee omgetoverd tot een festivalterrein waar we de 50ste verjaardag van het roemruchte Woodstock Festival zullen vieren. Een zaterdagavond Peace\, Love en Music als eerbetoon aan het bekendste festival ter wereld. \nKatwijkse muzikanten en bands brengen een ode aan hun helden: The Who\, Janis Joplin\, Creedence Clearwater Revival\, Jimi Hendrix\, Canned Heat\, Jefferson Airplane\, Joe Cocker en nog vele\, vele anderen. \nWoodstock on the Beach wordt mede mogelijk wordt gemaakt door: \n\n\n\n\n\n\n\n\n\n 
URL:https://www.kattekseculturen.nl/event/woodstock-on-the-beach/
LOCATION:Beachclub Zomers\, Boulevard Zeezijde 21\, Katwijk aan Zee\, Z-H\, 2225 BB\, Nederland
CATEGORIES:Festival,Muziek
ATTACH;FMTTYPE=image/png:https://www.kattekseculturen.nl/wp-content/uploads/2019/05/MW-logo-e1562616947469.png
ORGANIZER;CN="Stichting%20Cultuurpodium%20Kattekse%20CultUren":MAILTO:info@kattekseculturen.nl
END:VEVENT
END:VCALENDAR